BEGIN:VCALENDAR
VERSION:2.0
PRODID:-//KFUPM Business School - ECPv6.15.20//NONSGML v1.0//EN
CALSCALE:GREGORIAN
METHOD:PUBLISH
X-ORIGINAL-URL:https://kbs.kfupm.edu.sa
X-WR-CALDESC:Events for KFUPM Business School
REFRESH-INTERVAL;VALUE=DURATION:PT1H
X-Robots-Tag:noindex
X-PUBLISHED-TTL:PT1H
BEGIN:VTIMEZONE
TZID:UTC
BEGIN:STANDARD
TZOFFSETFROM:+0000
TZOFFSETTO:+0000
TZNAME:UTC
DTSTART:20210101T000000
END:STANDARD
END:VTIMEZONE
BEGIN:VEVENT
DTSTART;TZID=UTC:20221116T090000
DTEND;TZID=UTC:20221119T173000
DTSTAMP:20260423T111216
CREATED:20221031T051629Z
LAST-MODIFIED:20250617T023809Z
UID:11092-1668589200-1668879000@kbs.kfupm.edu.sa
SUMMARY:MENA Conference on Information Systems 2022
DESCRIPTION:
URL:https://kbs.kfupm.edu.sa/event/mena-conference-on-information-systems-2022/
LOCATION:King Fahd Conference Center – Building 60\, King Fahd Conference Center - Building 60\, Dhahran\, Eastern Province\, 31261\, Saudi Arabia
CATEGORIES:Events
ATTACH;FMTTYPE=image/png:https://kbs.kfupm.edu.sa/wp-content/uploads/2022/10/MENACIS-poster.png
END:VEVENT
BEGIN:VEVENT
DTSTART;TZID=UTC:20221120T190000
DTEND;TZID=UTC:20221122T220000
DTSTAMP:20260423T111216
CREATED:20221031T053730Z
LAST-MODIFIED:20221031T053730Z
UID:11102-1668970800-1669154400@kbs.kfupm.edu.sa
SUMMARY:KFUPM Undergraduate Debate Competition
DESCRIPTION:
URL:https://kbs.kfupm.edu.sa/event/kfupm-undergraduate-debate-competition/
LOCATION:KFUPM Business School\, KFUPM Business School\, Room 120-121\, Dhahran\, Eastern Province\, 31261\, Saudi Arabia
CATEGORIES:Events
ATTACH;FMTTYPE=image/png:https://kbs.kfupm.edu.sa/wp-content/uploads/2022/10/Debate-Competition-female.png
END:VEVENT
END:VCALENDAR