BEGIN:VCALENDAR
VERSION:2.0
PRODID:-//KFUPM Business School - ECPv6.15.20//NONSGML v1.0//EN
CALSCALE:GREGORIAN
METHOD:PUBLISH
X-WR-CALNAME:KFUPM Business School
X-ORIGINAL-URL:https://kbs.kfupm.edu.sa
X-WR-CALDESC:Events for KFUPM Business School
REFRESH-INTERVAL;VALUE=DURATION:PT1H
X-Robots-Tag:noindex
X-PUBLISHED-TTL:PT1H
BEGIN:VTIMEZONE
TZID:UTC
BEGIN:STANDARD
TZOFFSETFROM:+0000
TZOFFSETTO:+0000
TZNAME:UTC
DTSTART:20240101T000000
END:STANDARD
END:VTIMEZONE
BEGIN:VEVENT
DTSTART;TZID=UTC:20250212T170000
DTEND;TZID=UTC:20250212T202000
DTSTAMP:20260419T185017
CREATED:20250212T024249Z
LAST-MODIFIED:20250212T030429Z
UID:13137-1739379600-1739391600@kbs.kfupm.edu.sa
SUMMARY:Empowering Employability in Business Schools
DESCRIPTION:Empowering Employability in Business Schools \n📅 Date & Time:\n🕔 5:00 PM AST \n📍 Location:\nAuditorium\, Innovation Cluster Building\, DTVC\, KFUPM \n💡 About the Event:\nJoin us for an exclusive Thought Leadership Event at KFUPM on February 12\, 2025. bringing together academic leaders from universities across the Eastern Region to explore the future of business education and employability. \nWhat You’ll Learn?\n✅ Keynote Session: Meeting Industry Demands: Curriculum Transformation through Technology \n🎤 Speaker: Madelein Meiring\, Higher Education Excellence Advisor\, McGraw Hill \n✅ Panel 1: Leadership in Action: Evolving Curricula for Career Readiness\n✅ Panel 2: Getting Accounting and Finance Students Career Ready \nThis event will bring together leaders from top universities across the Eastern Region\, fostering discussions on curriculum modernization\, training\, and career pathways. \nEvent Agenda:\n⏳ 5:00 PM — Registration\n🎤 6:00 PM — Opening Remarks (5 min)\n📌 6:05 PM — Keynote Session: Meeting Industry Demands: Curriculum Transformation through Technology (40 min)\n🗣 Speaker: Madelein Meiring (Higher Education Excellence Advisor\, McGraw Hill) \n📌 6:45 PM — Panel 1: Leadership in Action: Evolving Curricula for Career Readiness (40 min) \n☕ 7:25 PM — Break (15 min) \n📌 7:40 PM — Panel 2: Getting Accounting and Finance Students Career Ready (40 min) \n🍽 8:20 PM — Dinner & Networking \n📌 Registration & More Info:\n🔗 Click here to register
URL:https://kbs.kfupm.edu.sa/event/empowering-employability-in-business-schools/
LOCATION:Auditorium\, Innovation Cluster Building\, DTVC\, KFUPM\, 8783 Ibn Alhaitham St\, KFUPM\, Dhahran 34464\, Saudi Arabia\, Dhahran\, Eastern Province\, 34464\, Saudi Arabia
CATEGORIES:Events
ATTACH;FMTTYPE=image/png:https://kbs.kfupm.edu.sa/wp-content/uploads/2025/02/Empowering_Employability_Matched.png
END:VEVENT
END:VCALENDAR